BEGIN:VCALENDAR
VERSION:2.0
PRODID:-//Rare Coins Of Raleigh - ECPv6.15.20//NONSGML v1.0//EN
CALSCALE:GREGORIAN
METHOD:PUBLISH
X-WR-CALNAME:Rare Coins Of Raleigh
X-ORIGINAL-URL:https://www.rarecoinsofraleigh.com
X-WR-CALDESC:Events for Rare Coins Of Raleigh
REFRESH-INTERVAL;VALUE=DURATION:PT1H
X-Robots-Tag:noindex
X-PUBLISHED-TTL:PT1H
BEGIN:VTIMEZONE
TZID:America/New_York
BEGIN:DAYLIGHT
TZOFFSETFROM:-0500
TZOFFSETTO:-0400
TZNAME:EDT
DTSTART:20220313T070000
END:DAYLIGHT
BEGIN:STANDARD
TZOFFSETFROM:-0400
TZOFFSETTO:-0500
TZNAME:EST
DTSTART:20221106T060000
END:STANDARD
BEGIN:DAYLIGHT
TZOFFSETFROM:-0500
TZOFFSETTO:-0400
TZNAME:EDT
DTSTART:20230312T070000
END:DAYLIGHT
BEGIN:STANDARD
TZOFFSETFROM:-0400
TZOFFSETTO:-0500
TZNAME:EST
DTSTART:20231105T060000
END:STANDARD
BEGIN:DAYLIGHT
TZOFFSETFROM:-0500
TZOFFSETTO:-0400
TZNAME:EDT
DTSTART:20240310T070000
END:DAYLIGHT
BEGIN:STANDARD
TZOFFSETFROM:-0400
TZOFFSETTO:-0500
TZNAME:EST
DTSTART:20241103T060000
END:STANDARD
END:VTIMEZONE
BEGIN:VEVENT
DTSTART;TZID=America/New_York:20231015T100000
DTEND;TZID=America/New_York:20231015T160000
DTSTAMP:20260421T071821
CREATED:20230126T165100Z
LAST-MODIFIED:20230126T165100Z
UID:10000066-1697364000-1697385600@www.rarecoinsofraleigh.com
SUMMARY:Jacksonville\, NC Coin Show
DESCRIPTION:North Carolina’s Jacksonville-Camp Lejeune Coin Club will host their semi-annual coin show on Saturday and Sunday October 14th & 15\, 2023. The show is located at the Hilton Garden Inn 1016 Jacksonville Parkway just off Western Blvd. in Jacksonville. Dealers will be on hand to buy\, sell\, and appraise coins\, paper money\, bullion\, and numismatic-related material. There will be a Kids Corner for the young numismatist\, as well! Parking and admission are free! See you there! \n*Dealer set up Saturday before show\, 8:00 am – 10:00 am. \n*Show hours: Saturday 10-5pm\, Sunday 10-4pm.
URL:https://www.rarecoinsofraleigh.com/event/jacksonville-nc-coin-show-2/2023-10-15/
LOCATION:Hilton Garden Inn – Jacksonville\, NC\, 1016 Jacksonville Parkway\, Jacksonville\, NC\, 28546\, United States
ATTACH;FMTTYPE=image/jpeg:https://www.rarecoinsofraleigh.com/wp-content/uploads/2023/01/94fdfef6efe269bfd7a46501dd44bd5d.jpg
ORGANIZER;CN="Camp Lejeune Coin Club":MAILTO:louie@jacksonville-camplejeunecoinclub.com
END:VEVENT
END:VCALENDAR